{"text_format":"1","workbook":"xlsx","n_sheets":16,"sheets":["Preview","Getting Started","Case Style","Categories","Assets","Assets.Misc","Assets.Notes","Liabilities","Liabilities.Misc","Liabilities.Notes","Summary","Settings","Internals","Literals","FmtCtrls","MyBuffer"],"not_rendered":{"charts":0,"images":115,"macros":1,"external_links":0,"defined_names":1,"comments":0,"pivot_tables":0},"unopened":[],"bounds":{"document_bytes":16777216,"sheet_cells":100000,"rows_first":2000,"rows_last":500,"rows_between":2000,"halvings":0,"cell_chars":16384,"cell_head_chars":4096},"cells_cut":0,"cells_raw":0,"read":"whole","date_system":"1900"}

{"sheet":"Preview","index":0,"n_rows":6,"n_cols":1,"rows_kept":6,"cut":false,"hidden":false,"merged":[[6,0,6,2],[5,0,5,2],[7,0,7,2]]}
[]
[]
[]
[]
[]
["                                                                           By OhioOakTree. Original image by Pascal Fiechter."]

{"sheet":"Getting Started","index":1,"n_rows":22,"n_cols":10,"rows_kept":22,"cut":false,"hidden":false,"merged":[[12,9,12,10],[6,9,6,16]]}
[]
[]
[]
[]
[]
[]
[null,null,null,null,null,null,null,null,null,{"$f":"CONCATENATE( Literals!B76,\"  \", Literals!B32)","v":"Welcome to the Equitable Distribution Spreadsheet  v36"}]
[]
[null,null,null,null,null,null,null,null,null,"Overview …"]
[]
[null,null,null,null,null,null,null,null,null,"Fill out your spreadsheet …"]
[]
[null,null,null,null,null,null,null,null,null,"Download the User's Guide …"]
[]
[null,null,null,null,null,null,null,null,null,"Printable (blank) forms …"]
[]
[null,null,null,null,null,null,null,null,null,"Contact us …"]
[]
[null,null,null,null,null,null,null,null,null,"Ninth Judicial Circuit Court of Florida …"]
[]
[]
[null,null,null,null,null,null,null,null,null,{"$f":"Literals!B14","v":"• eQuit v36  © 2019  Diana M. Tennis"}]

{"sheet":"Case Style","index":2,"n_rows":35,"n_cols":12,"rows_kept":35,"cut":false,"hidden":false,"merged":[[6,9,6,16],[11,10,11,11],[20,9,20,10],[9,10,9,18]]}
[]
[]
[]
[]
[]
[]
[null,null,null,null,null,null,null,null,null,{"$f":"CONCATENATE( Literals!D76,\"  \", Literals!B32)","v":"Equitable Distribution Spreadsheet  v36"}]
[]
[]
[null,null,null,null,null,null,null,null,null,{"$f":"Literals!B9","v":"Case Style"}]
[]
[null,null,null,null,null,null,null,null,null,{"$f":"Literals!D9","v":"Case Number"}]
[]
[null,null,null,null,null,null,null,null,null,"Date of Marriage"]
[]
[null,null,null,null,null,null,null,null,null,"Date of Filing"]
[]
[null,null,null,null,null,null,null,null,null,"Petitioner's Label",null,"* Optional"]
[]
[null,null,null,null,null,null,null,null,null,"Respondent's Label",null,"* Optional"]
[]
[null,null,null,null,null,null,null,null,null,{"$f":"Literals!B41","v":"Role"},"","* Optional"]
[]
[]
[]
[]
[]
[]
[]
[]
[]
[]
[]
[]
[null,null,null,null,null,null,null,null,null,{"$f":"Literals!B14","v":"• eQuit v36  © 2019  Diana M. Tennis"}]

{"sheet":"Categories","index":3,"n_rows":35,"n_cols":14,"rows_kept":35,"cut":false,"hidden":true,"merged":[[6,9,6,16],[11,10,11,11],[9,10,9,11],[9,13,9,14],[10,13,10,14],[10,10,10,11]]}
[]
[]
[]
[]
[]
[]
[null,null,null,null,null,null,null,null,null,{"$f":"CONCATENATE( Literals!D76,\"  \", Literals!B32)","v":"Equitable Distribution Spreadsheet  v36"}]
[null,null,null,null,null,null,null,null,null,null,{"$f":"Literals!B78","v":"Select the categories that you wish to include in this report:"}]
[]
[null,null,null,null,null,null,null,null,null,null,{"$f":"Literals!B79","v":"Assets"},null,null,{"$f":"Literals!B80","v":"Liabilities"}]
[]
[null,null,null,null,null,null,null,null,null,null,""]
[]
[]
[]
[]
[]
[null,null,null,null,null,null,null,null,null,null,""]
[]
[null,null,null,null,null,null,null,null,null,null,""]
[]
[null,null,null,null,null,null,null,null,null,null,""]
[]
[]
[]
[]
[]
[]
[]
[]
[]
[]
[]
[]
[null,null,null,null,null,null,null,null,null,{"$f":"Literals!B14","v":"• eQuit v36  © 2019  Diana M. Tennis"}]

{"sheet":"Assets","index":4,"n_rows":70,"n_cols":18,"rows_kept":70,"cut":false,"hidden":false,"merged":[[6,1,7,1],[7,6,7,7],[7,9,7,10],[7,11,7,12],[7,14,7,15],[6,9,6,12],[6,14,6,17],[7,16,7,17],[1,3,1,17],[3,16,3,17],[6,6,6,7],[6,3,7,4],[2,6,2,7],[2,16,2,17]]}
["         Stop"]
[null,{"$f":"Literals!B9","v":"Case Style"},null,{"$f":"IF( ISBLANK( 'Case Style'!K10), \"\", 'Case Style'!K10 )","v":""}]
[null,{"$f":"Literals!D9","v":"Case Number"},null,{"$f":"IF( ISBLANK( 'Case Style'!K12), \"\", 'Case Style'!K12 )","v":""},null," "," ",null,null," "]
[null,{"$f":"Literals!B10","v":"Date of Marriage"},null,{"$f":"IF( ISBLANK( 'Case Style'!K14), \"\", 'Case Style'!K14 )","v":""},null," "," "," ",null," "]
[null,{"$f":"Literals!B11","v":"Date of Filing"},null,{"$f":"IF( ISBLANK( 'Case Style'!K16), \"\", 'Case Style'!K16)","v":""},null," "," "," ",null," "]
[null,null,null,null,null," "," "," ",null," "]
[null,{"$f":"Internals!B3","v":"Marital Assets"},null,null,null,null,{"$f":"Literals!B8","v":"Court Determined"},null,null,{"$f":"Literals!B7","v":"Valuations"},null,null,null,null,{"$f":"Literals!B19","v":"Proposed Distributions"}]
[null,null,null,null,null,null,{"$f":"Literals!D8","v":"Distributions"},null,null,{"$f":"FmtCtrls!D41","v":"Petitioner"},null,{"$f":"FmtCtrls!D42","v":"Respondent"},null,null,{"$f":"FmtCtrls!D41","v":"Petitioner"},null,{"$f":"FmtCtrls!D42","v":"Respondent"}]
[]
[]
[{"$f":"Internals!A4","v":1},{"$f":"Internals!B4","v":"Real Property"},null,{"$f":"Literals!B35","v":"Titled"},{"$f":"Literals!B36","v":"Address"},null,{"$f":"FmtCtrls!D41","v":"Petitioner"},{"$f":"FmtCtrls!D42","v":"Respondent"},null,{"$f":"Literals!B6","v":"Date"},{"$f":"Literals!B7","v":"Valuations"},{"$f":"Literals!B6","v":"Date"},{"$f":"Literals!B7","v":"Valuations"},null,{"$f":"FmtCtrls!D41","v":"Petitioner"},{"$f":"FmtCtrls!D42","v":"Respondent"},{"$f":"FmtCtrls!D41","v":"Petitioner"},{"$f":"FmtCtrls!D42","v":"Respondent"}]
["Z",{"$f":"ROW()+1-Internals!$D$4","v":1}]
["Z",{"$f":"ROW()+1-Internals!$D$4","v":2}]
["Z",null,null,null,{"$f":"Literals!B17","v":"Subtotal"},null,{"$f":"SUM( G12:G13)","v":0},{"$f":"SUM( H12:H13)","v":0},null,null,{"$f":"SUM( K12:K13)","v":0},null,{"$f":"SUM( M12:M13)","v":0},null,{"$f":"SUM( O12:O13)","v":0},{"$f":"SUM( P12:P13)","v":0},{"$f":"SUM( Q12:Q13)","v":0},{"$f":"SUM( R12:R13)","v":0}]
[]
[null,null,null,null,{"$f":"Literals!B34","v":"Equalize subtotal"},null,{"$f":"SUM(H14,-G14)/2","v":0},{"$f":"SUM(G14,-H14)/2","v":0},null,null,{"$f":"SUM(M14,-K14)/2","v":0},null,{"$f":"SUM(K14,-M14)/2","v":0},null,{"$f":"SUM(P14,-O14)/2","v":0},{"$f":"SUM(O14,-P14)/2","v":0},{"$f":"SUM(R14,-Q14)/2","v":0},{"$f":"SUM(Q14,-R14)/2","v":0}]
[]
[{"$f":"Internals!A5","v":2},{"$f":"Internals!B5","v":"Accounts"},null,{"$f":"Literals!B35","v":"Titled"},{"$f":"Literals!B37","v":"Institution  +  last 4"},null,{"$f":"FmtCtrls!D41","v":"Petitioner"},{"$f":"FmtCtrls!D42","v":"Respondent"},null,{"$f":"Literals!B6","v":"Date"},{"$f":"Literals!B7","v":"Valuations"},{"$f":"Literals!B6","v":"Date"},{"$f":"Literals!B7","v":"Valuations"},null,{"$f":"FmtCtrls!D41","v":"Petitioner"},{"$f":"FmtCtrls!D42","v":"Respondent"},{"$f":"FmtCtrls!D41","v":"Petitioner"},{"$f":"FmtCtrls!D42","v":"Respondent"}]
["Z",{"$f":"ROW()+1-Internals!$D$5","v":1}]
["Z",{"$f":"ROW()+1-Internals!$D$5","v":2}]
[null,null,null,null,{"$f":"Literals!B17","v":"Subtotal"},null,{"$f":"SUM( G19:G20)","v":0},{"$f":"SUM( H19:H20)","v":0},null,null,{"$f":"SUM( K19:K20)","v":0},null,{"$f":"SUM( M19:M20)","v":0},null,{"$f":"SUM( O19:O20)","v":0},{"$f":"SUM( P19:P20)","v":0},{"$f":"SUM( Q19:Q20)","v":0},{"$f":"SUM( R19:R20)","v":0}]
[]
[null,null,null,null,{"$f":"Literals!B34","v":"Equalize subtotal"},null,{"$f":"SUM(H21,-G21)/2","v":0},{"$f":"SUM(G21,-H21)/2","v":0},null,null,{"$f":"SUM(M21,-K21)/2","v":0},null,{"$f":"SUM(K21,-M21)/2","v":0},null,{"$f":"SUM(P21,-O21)/2","v":0},{"$f":"SUM(O21,-P21)/2","v":0},{"$f":"SUM(R21,-Q21)/2","v":0},{"$f":"SUM(Q21,-R21)/2","v":0}]
[]
[{"$f":"Internals!A6","v":3},{"$f":"Internals!B6","v":"Retirement"},null,{"$f":"Literals!B35","v":"Titled"},{"$f":"Literals!B37","v":"Institution  +  last 4"},null,{"$f":"FmtCtrls!D41","v":"Petitioner"},{"$f":"FmtCtrls!D42","v":"Respondent"},null,{"$f":"Literals!B6","v":"Date"},{"$f":"Literals!B7","v":"Valuations"},{"$f":"Literals!B6","v":"Date"},{"$f":"Literals!B7","v":"Valuations"},null,{"$f":"FmtCtrls!D41","v":"Petitioner"},{"$f":"FmtCtrls!D42","v":"Respondent"},{"$f":"FmtCtrls!D41","v":"Petitioner"},{"$f":"FmtCtrls!D42","v":"Respondent"}]
["Z",{"$f":"ROW()+1-Internals!$D$6","v":1}]
["Z",{"$f":"ROW()+1-Internals!$D$6","v":2}]
[null,null,null,null,{"$f":"Literals!B17","v":"Subtotal"},null,{"$f":"SUM( G26:G27)","v":0},{"$f":"SUM( H26:H27)","v":0},null,null,{"$f":"SUM( K26:K27)","v":0},null,{"$f":"SUM( M26:M27)","v":0},null,{"$f":"SUM( O26:O27)","v":0},{"$f":"SUM( P26:P27)","v":0},{"$f":"SUM( Q26:Q27)","v":0},{"$f":"SUM( R26:R27)","v":0}]
[]
[null,null,null,null,{"$f":"Literals!B34","v":"Equalize subtotal"},null,{"$f":"SUM(H28,-G28)/2","v":0},{"$f":"SUM(G28,-H28)/2","v":0},null,null,{"$f":"SUM(M28,-K28)/2","v":0},null,{"$f":"SUM(K28,-M28)/2","v":0},null,{"$f":"SUM(P28,-O28)/2","v":0},{"$f":"SUM(O28,-P28)/2","v":0},{"$f":"SUM(R28,-Q28)/2","v":0},{"$f":"SUM(Q28,-R28)/2","v":0}]
[]
[{"$f":"Internals!A7","v":4},{"$f":"Internals!B7","v":"Pre-Tax Retirement"},null,{"$f":"Literals!B35","v":"Titled"},{"$f":"Literals!B37","v":"Institution  +  last 4"},null,{"$f":"FmtCtrls!D41","v":"Petitioner"},{"$f":"FmtCtrls!D42","v":"Respondent"},null,{"$f":"Literals!B6","v":"Date"},{"$f":"Literals!B7","v":"Valuations"},{"$f":"Literals!B6","v":"Date"},{"$f":"Literals!B7","v":"Valuations"},null,{"$f":"FmtCtrls!D41","v":"Petitioner"},{"$f":"FmtCtrls!D42","v":"Respondent"},{"$f":"FmtCtrls!D41","v":"Petitioner"},{"$f":"FmtCtrls!D42","v":"Respondent"}]
["Z",{"$f":"ROW()+1-Internals!$D$7","v":1}]
["Z",{"$f":"ROW()+1-Internals!$D$7","v":2}]
[null,null,null,null,{"$f":"Literals!B17","v":"Subtotal"},null,{"$f":"SUM( G33:G34)","v":0},{"$f":"SUM( H33:H34)","v":0},null,null,{"$f":"SUM( K33:K34)","v":0},null,{"$f":"SUM( M33:M34)","v":0},null,{"$f":"SUM( O33:O34)","v":0},{"$f":"SUM( P33:P34)","v":0},{"$f":"SUM( Q33:Q34)","v":0},{"$f":"SUM( R33:R34)","v":0}]
[]
[null,null,null,null,{"$f":"Literals!B34","v":"Equalize subtotal"},null,{"$f":"SUM(H35,-G35)/2","v":0},{"$f":"SUM(G35,-H35)/2","v":0},null,null,{"$f":"SUM(M35,-K35)/2","v":0},null,{"$f":"SUM(K35,-M35)/2","v":0},null,{"$f":"SUM(P35,-O35)/2","v":0},{"$f":"SUM(O35,-P35)/2","v":0},{"$f":"SUM(R35,-Q35)/2","v":0},{"$f":"SUM(Q35,-R35)/2","v":0}]
[]
[{"$f":"Internals!A8","v":5},{"$f":"Internals!B8","v":"Business Interests"},null,{"$f":"Literals!B4","v":"Possession"},{"$f":"Literals!B77","v":"Entity"},null,{"$f":"FmtCtrls!D41","v":"Petitioner"},{"$f":"FmtCtrls!D42","v":"Respondent"},null,{"$f":"Literals!B6","v":"Date"},{"$f":"Literals!B7","v":"Valuations"},{"$f":"Literals!B6","v":"Date"},{"$f":"Literals!B7","v":"Valuations"},null,{"$f":"FmtCtrls!D41","v":"Petitioner"},{"$f":"FmtCtrls!D42","v":"Respondent"},{"$f":"FmtCtrls!D41","v":"Petitioner"},{"$f":"FmtCtrls!D42","v":"Respondent"}]
["Z",{"$f":"ROW()+1-Internals!$D$8","v":1}]
["Z",{"$f":"ROW()+1-Internals!$D$8","v":2}]
[null,null,null,null,{"$f":"Literals!B17","v":"Subtotal"},null,{"$f":"SUM( G40:G41)","v":0},{"$f":"SUM( H40:H41)","v":0},null,null,{"$f":"SUM( K40:K41)","v":0},null,{"$f":"SUM( M40:M41)","v":0},null,{"$f":"SUM( O40:O41)","v":0},{"$f":"SUM( P40:P41)","v":0},{"$f":"SUM( Q40:Q41)","v":0},{"$f":"SUM( R40:R41)","v":0}]
[]
[null,null,null,null,{"$f":"Literals!B34","v":"Equalize subtotal"},null,{"$f":"SUM(H42,-G42)/2","v":0},{"$f":"SUM(G42,-H42)/2","v":0},null,null,{"$f":"SUM(M42,-K42)/2","v":0},null,{"$f":"SUM(K42,-M42)/2","v":0},null,{"$f":"SUM(P42,-O42)/2","v":0},{"$f":"SUM(O42,-P42)/2","v":0},{"$f":"SUM(R42,-Q42)/2","v":0},{"$f":"SUM(Q42,-R42)/2","v":0}]
[]
[{"$f":"Internals!A9","v":6},{"$f":"Internals!B9","v":"Personal Property"},null,{"$f":"Literals!B4","v":"Possession"},{"$f":"Literals!B5","v":"Item"},null,{"$f":"FmtCtrls!D41","v":"Petitioner"},{"$f":"FmtCtrls!D42","v":"Respondent"},null,{"$f":"Literals!B6","v":"Date"},{"$f":"Literals!B7","v":"Valuations"},{"$f":"Literals!B6","v":"Date"},{"$f":"Literals!B7","v":"Valuations"},null,{"$f":"FmtCtrls!D41","v":"Petitioner"},{"$f":"FmtCtrls!D42","v":"Respondent"},{"$f":"FmtCtrls!D41","v":"Petitioner"},{"$f":"FmtCtrls!D42","v":"Respondent"}]
["Z",{"$f":"ROW()+1-Internals!$D$9","v":1}]
["Z",{"$f":"ROW()+1-Internals!$D$9","v":2}]
[null,null,null,null,{"$f":"Literals!B17","v":"Subtotal"},null,{"$f":"SUM( G47:G48)","v":0},{"$f":"SUM( H47:H48)","v":0},null,null,{"$f":"SUM( K47:K48)","v":0},null,{"$f":"SUM( M47:M48)","v":0},null,{"$f":"SUM( O47:O48)","v":0},{"$f":"SUM( P47:P48)","v":0},{"$f":"SUM( Q47:Q48)","v":0},{"$f":"SUM( R47:R48)","v":0}]
[]
[null,null,null,null,{"$f":"Literals!B34","v":"Equalize subtotal"},null,{"$f":"SUM(H49,-G49)/2","v":0},{"$f":"SUM(G49,-H49)/2","v":0},null,null,{"$f":"SUM(M49,-K49)/2","v":0},null,{"$f":"SUM(K49,-M49)/2","v":0},null,{"$f":"SUM(P49,-O49)/2","v":0},{"$f":"SUM(O49,-P49)/2","v":0},{"$f":"SUM(R49,-Q49)/2","v":0},{"$f":"SUM(Q49,-R49)/2","v":0}]
[]
[{"$f":"Internals!A10","v":7},{"$f":"Internals!B10","v":"Vehicles"},null,{"$f":"Literals!B35","v":"Titled"},{"$f":"Literals!B39","v":"Vehicle"},null,{"$f":"FmtCtrls!D41","v":"Petitioner"},{"$f":"FmtCtrls!D42","v":"Respondent"},null,{"$f":"Literals!B6","v":"Date"},{"$f":"Literals!B7","v":"Valuations"},{"$f":"Literals!B6","v":"Date"},{"$f":"Literals!B7","v":"Valuations"},null,{"$f":"FmtCtrls!D41","v":"Petitioner"},{"$f":"FmtCtrls!D42","v":"Respondent"},{"$f":"FmtCtrls!D41","v":"Petitioner"},{"$f":"FmtCtrls!D42","v":"Respondent"}]
["Z",{"$f":"ROW()+1-Internals!$D$10","v":1}]
["Z",{"$f":"ROW()+1-Internals!$D$10","v":2}]
[null,null,null,null,{"$f":"Literals!B17","v":"Subtotal"},null,{"$f":"SUM( G54:G55)","v":0},{"$f":"SUM( H54:H55)","v":0},null,null,{"$f":"SUM( K54:K55)","v":0},null,{"$f":"SUM( M54:M55)","v":0},null,{"$f":"SUM( O54:O55)","v":0},{"$f":"SUM( P54:P55)","v":0},{"$f":"SUM( Q54:Q55)","v":0},{"$f":"SUM( R54:R55)","v":0}]
[]
[null,null,null,null,{"$f":"Literals!B34","v":"Equalize subtotal"},null,{"$f":"SUM(H56,-G56)/2","v":0},{"$f":"SUM(G56,-H56)/2","v":0},null,null,{"$f":"SUM(M56,-K56)/2","v":0},null,{"$f":"SUM(K56,-M56)/2","v":0},null,{"$f":"SUM(P56,-O56)/2","v":0},{"$f":"SUM(O56,-P56)/2","v":0},{"$f":"SUM(R56,-Q56)/2","v":0},{"$f":"SUM(Q56,-R56)/2","v":0}]
[]
[{"$f":"Internals!A11","v":8},{"$f":"Internals!B11","v":"Contingent Assets"},null,{"$f":"Literals!B35","v":"Titled"},{"$f":"Literals!B5","v":"Item"},null,{"$f":"FmtCtrls!D41","v":"Petitioner"},{"$f":"FmtCtrls!D42","v":"Respondent"},null,{"$f":"Literals!B6","v":"Date"},{"$f":"Literals!B7","v":"Valuations"},{"$f":"Literals!B6","v":"Date"},{"$f":"Literals!B7","v":"Valuations"},null,{"$f":"FmtCtrls!D41","v":"Petitioner"},{"$f":"FmtCtrls!D42","v":"Respondent"},{"$f":"FmtCtrls!D41","v":"Petitioner"},{"$f":"FmtCtrls!D42","v":"Respondent"}]
["Z",{"$f":"ROW()+1-Internals!$D$11","v":1}]
["Z",{"$f":"ROW()+1-Internals!$D$11","v":2}]
[null,null,null,null,{"$f":"Literals!B17","v":"Subtotal"},null,{"$f":"SUM( G61:G62)","v":0},{"$f":"SUM( H61:H62)","v":0},null,null,{"$f":"SUM( K61:K62)","v":0},null,{"$f":"SUM( M61:M62)","v":0},null,{"$f":"SUM( O61:O62)","v":0},{"$f":"SUM( P61:P62)","v":0},{"$f":"SUM( Q61:Q62)","v":0},{"$f":"SUM( R61:R62)","v":0}]
[]
[null,null,null,null,{"$f":"Literals!B34","v":"Equalize subtotal"},null,{"$f":"SUM(H63,-G63)/2","v":0},{"$f":"SUM(G63,-H63)/2","v":0},null,null,{"$f":"SUM(M63,-K63)/2","v":0},null,{"$f":"SUM(K63,-M63)/2","v":0},null,{"$f":"SUM(P63,-O63)/2","v":0},{"$f":"SUM(O63,-P63)/2","v":0},{"$f":"SUM(R63,-Q63)/2","v":0},{"$f":"SUM(Q63,-R63)/2","v":0}]
[]
[null,{"$f":"Internals!B12","v":"Total Assets"},null,null,null,null,{"$f":"SUM(G14,G21,G28,G35,G42,G49,G56,G63)","v":0},{"$f":"SUM(H14,H21,H28,H35,H42,H49,H56,H63)","v":0},null,null,{"$f":"SUM(K14,K21,K28,K35,K42,K49,K56,K63)","v":0},null,{"$f":"SUM(M14,M21,M28,M35,M42,M49,M56,M63)","v":0},null,{"$f":"SUM(O14,O21,O28,O35,O42,O49,O56,O63)","v":0},{"$f":"SUM(P14,P21,P28,P35,P42,P49,P56,P63)","v":0},{"$f":"SUM(Q14,Q21,Q28,Q35,Q42,Q49,Q56,Q63)","v":0},{"$f":"SUM(R14,R21,R28,R35,R42,R49,R56,R63)","v":0}]
[]
[null,null,null,null,{"$f":"Literals!B34","v":"Equalize subtotal"},null,{"$f":"SUM(H67,-G67)/2","v":0},{"$f":"SUM(G67,-H67)/2","v":0},null,null,{"$f":"SUM(M67,-K67)/2","v":0},null,{"$f":"SUM(K67,-M67)/2","v":0},null,{"$f":"SUM(P67,-O67)/2","v":0},{"$f":"SUM(O67,-P67)/2","v":0},{"$f":"SUM(R67,-Q67)/2","v":0},{"$f":"SUM(Q67,-R67)/2","v":0}]
[null,{"$f":"Literals!B14","v":"• eQuit v36  © 2019  Diana M. Tennis"}]

{"sheet":"Assets.Misc","index":5,"n_rows":25,"n_cols":18,"rows_kept":25,"cut":false,"hidden":false,"merged":[[6,14,6,17],[1,3,1,17],[3,16,3,17],[6,1,7,1],[6,3,7,4],[6,6,6,7],[7,6,7,7],[7,9,7,10],[7,11,7,12],[7,14,7,15],[7,16,7,17],[6,9,6,12],[2,6,2,7],[2,16,2,17]]}
[]
[null,{"$f":"Literals!B9","v":"Case Style"},null,{"$f":"IF( ISBLANK( 'Case Style'!K10), \"\", 'Case Style'!K10 )","v":""}]
[null,{"$f":"Literals!D9","v":"Case Number"},null,{"$f":"IF( ISBLANK( 'Case Style'!K12), \"\", 'Case Style'!K12 )","v":""},null," "," ",null,null," "]
[null,{"$f":"Literals!B10","v":"Date of Marriage"},null,{"$f":"IF( ISBLANK( 'Case Style'!K14), \"\", 'Case Style'!K14 )","v":""},null," "," "," ",null," "]
[null,{"$f":"Literals!B11","v":"Date of Filing"},null,{"$f":"IF( ISBLANK( 'Case Style'!K16), \"\", 'Case Style'!K16)","v":""},null," "," "," ",null," "]
[null,null,null,null,null," "," "," ",null," "]
[null,{"$f":"Internals!B3","v":"Marital Assets"},null,null,null,null,{"$f":"Literals!B8","v":"Court Determined"},null,null,{"$f":"Literals!B7","v":"Valuations"},null,null,null,null,{"$f":"Literals!B19","v":"Proposed Distributions"}]
[null,null,null,null,null,null,{"$f":"Literals!D8","v":"Distributions"},null,null,{"$f":"FmtCtrls!D41","v":"Petitioner"},null,{"$f":"FmtCtrls!D42","v":"Respondent"},null,null,{"$f":"FmtCtrls!D41","v":"Petitioner"},null,{"$f":"FmtCtrls!D42","v":"Respondent"}]
[]
[]
[null,{"$f":"Internals!B14","v":"Miscellaneous"},null,{"$f":"Literals!B4","v":"Possession"},{"$f":"Literals!B5","v":"Item"},null,{"$f":"FmtCtrls!D41","v":"Petitioner"},{"$f":"FmtCtrls!D42","v":"Respondent"},null,{"$f":"Literals!B6","v":"Date"},{"$f":"Literals!B7","v":"Valuations"},{"$f":"Literals!B6","v":"Date"},{"$f":"Literals!B7","v":"Valuations"},null,{"$f":"FmtCtrls!D41","v":"Petitioner"},{"$f":"FmtCtrls!D42","v":"Respondent"},{"$f":"FmtCtrls!D41","v":"Petitioner"},{"$f":"FmtCtrls!D42","v":"Respondent"}]
["Z",{"$f":"ROW()+1-Internals!$D$14","v":1}]
["Z",{"$f":"ROW()+1-Internals!$D$14","v":2}]
[null,{"$f":"ROW()+1-Internals!$D$14","v":3}]
["Z",{"$f":"ROW()+1-Internals!$D$14","v":4}]
[null,{"$f":"ROW()+1-Internals!$D$14","v":5}]
["Z",{"$f":"ROW()+1-Internals!$D$14","v":6}]
[null,null,null,null,{"$f":"Literals!B17","v":"Subtotal"},null,{"$f":"SUM( G12:G17)","v":0},{"$f":"SUM( H12:H17)","v":0},null,null,{"$f":"SUM( K12:K17)","v":0},null,{"$f":"SUM( M12:M17)","v":0},null,{"$f":"SUM( O12:O17)","v":0},{"$f":"SUM( P12:P17)","v":0},{"$f":"SUM( Q12:Q17)","v":0},{"$f":"SUM( R12:R17)","v":0}]
[]
[null,null,null,null,{"$f":"Literals!B34","v":"Equalize subtotal"},null,{"$f":"SUM(H18,-G18)/2","v":0},{"$f":"SUM(G18,-H18)/2","v":0},null,null,{"$f":"SUM(M18,-K18)/2","v":0},null,{"$f":"SUM(K18,-M18)/2","v":0},null,{"$f":"SUM(P18,-O18)/2","v":0},{"$f":"SUM(O18,-P18)/2","v":0},{"$f":"SUM(R18,-Q18)/2","v":0},{"$f":"SUM(Q18,-R18)/2","v":0}]
[]
[null,{"$f":"Internals!B15","v":"Total Miscellaneous"},null,null,null,null,{"$f":"G18","v":0},{"$f":"H18","v":0},null,null,{"$f":"K18","v":0},null,{"$f":"M18","v":0},null,{"$f":"O18","v":0},{"$f":"P18","v":0},{"$f":"Q18","v":0},{"$f":"R18","v":0}]
[]
[]
[null,{"$f":"Literals!B14","v":"• eQuit v36  © 2019  Diana M. Tennis"}]

{"sheet":"Assets.Notes","index":6,"n_rows":28,"n_cols":9,"rows_kept":28,"cut":false,"hidden":false,"merged":[[1,3,1,6],[6,1,7,1],[6,3,7,6],[24,5,24,6],[16,5,16,6]]}
[]
[null,{"$f":"Literals!B9","v":"Case Style"},null,{"$f":"IF( ISBLANK( 'Case Style'!K10), \"\", 'Case Style'!K10 )","v":""},null,null,null,null,{"$f":"Literals!D16","v":"°"}]
[null,{"$f":"Literals!D9","v":"Case Number"},null,{"$f":"IF( ISBLANK( 'Case Style'!K12), \"\", 'Case Style'!K12 )","v":""}]
[null,{"$f":"Literals!B10","v":"Date of Marriage"},null,{"$f":"IF( ISBLANK( 'Case Style'!K14), \"\", 'Case Style'!K14 )","v":""}]
[null,{"$f":"Literals!B11","v":"Date of Filing"},null,{"$f":"IF( ISBLANK( 'Case Style'!K16), \"\", 'Case Style'!K16)","v":""}]
[]
[null,{"$f":"Literals!B21","v":"Asset Notes"}]
[]
[]
[]
[null,{"$f":"FmtCtrls!D41","v":"Petitioner"},null,{"$f":"Literals!B18","v":"Category"},{"$f":"Literals!B25","v":"Asset"},{"$f":"Literals!B6","v":"Date"},{"$f":"Literals!B20","v":"Notes"}]
["Z",{"$f":"ROW()+1-Internals!$D$30","v":1}]
["Z",{"$f":"ROW()+1-Internals!$D$30","v":2}]
["Z",{"$f":"ROW()+1-Internals!$D$30","v":3}]
["Z",{"$f":"ROW()+1-Internals!$D$30","v":4}]
["Z",{"$f":"ROW()+1-Internals!$D$30","v":5}]
[]
[]
[null,{"$f":"FmtCtrls!D42","v":"Respondent"},null,{"$f":"Literals!B18","v":"Category"},{"$f":"Literals!B25","v":"Asset"},{"$f":"Literals!B6","v":"Date"},{"$f":"Literals!B20","v":"Notes"}]
["Z",{"$f":"ROW()+1-Internals!$D$31","v":1}]
["Z",{"$f":"ROW()+1-Internals!$D$31","v":2}]
["Z",{"$f":"ROW()+1-Internals!$D$31","v":3}]
["Z",{"$f":"ROW()+1-Internals!$D$31","v":4}]
["Z",{"$f":"ROW()+1-Internals!$D$31","v":5}]
[]
[]
[]
[null,{"$f":"Literals!B14","v":"• eQuit v36  © 2019  Diana M. Tennis"}]

{"sheet":"Liabilities","index":7,"n_rows":49,"n_cols":18,"rows_kept":49,"cut":false,"hidden":false,"merged":[[6,14,6,17],[1,3,1,17],[3,16,3,17],[6,1,7,1],[6,3,7,4],[6,6,6,7],[7,6,7,7],[7,9,7,10],[7,11,7,12],[7,14,7,15],[7,16,7,17],[6,9,6,12],[2,6,2,7],[2,16,2,17]]}
[]
[null,{"$f":"Literals!B9","v":"Case Style"},null,{"$f":"IF( ISBLANK( 'Case Style'!K10), \"\", 'Case Style'!K10 )","v":""}]
[null,{"$f":"Literals!D9","v":"Case Number"},null,{"$f":"IF( ISBLANK( 'Case Style'!K12), \"\", 'Case Style'!K12 )","v":""},null," "," ",null,null," "]
[null,{"$f":"Literals!B10","v":"Date of Marriage"},null,{"$f":"IF( ISBLANK( 'Case Style'!K14), \"\", 'Case Style'!K14 )","v":""},null," "," "," ",null," "]
[null,{"$f":"Literals!B11","v":"Date of Filing"},null,{"$f":"IF( ISBLANK( 'Case Style'!K16), \"\", 'Case Style'!K16)","v":""},null," "," "," ",null," "]
[null,null,null,null,null," "," "," ",null," "]
[null,{"$f":"Internals!B18","v":"Marital Liabilities"},null,null,null,null,{"$f":"Literals!B8","v":"Court Determined"},null,null,{"$f":"Literals!B7","v":"Valuations"},null,null,null,null,{"$f":"Literals!B19","v":"Proposed Distributions"}]
[null,null,null,null,null,null,{"$f":"Literals!D8","v":"Distributions"},null,null,{"$f":"FmtCtrls!D41","v":"Petitioner"},null,{"$f":"FmtCtrls!D42","v":"Respondent"},null,null,{"$f":"FmtCtrls!D41","v":"Petitioner"},null,{"$f":"FmtCtrls!D42","v":"Respondent"}]
[]
[]
[{"$f":"Internals!A4","v":1},{"$f":"Internals!B19","v":"Mortgage"},null,{"$f":"Literals!B38","v":"Signor"},{"$f":"Literals!B37","v":"Institution  +  last 4"},null,{"$f":"FmtCtrls!D41","v":"Petitioner"},{"$f":"FmtCtrls!D42","v":"Respondent"},null,{"$f":"Literals!B6","v":"Date"},{"$f":"Literals!B7","v":"Valuations"},{"$f":"Literals!B6","v":"Date"},{"$f":"Literals!B7","v":"Valuations"},null,{"$f":"FmtCtrls!D41","v":"Petitioner"},{"$f":"FmtCtrls!D42","v":"Respondent"},{"$f":"FmtCtrls!D41","v":"Petitioner"},{"$f":"FmtCtrls!D42","v":"Respondent"}]
["Z",{"$f":"ROW()+1-Internals!$D$19","v":1}]
["Z",{"$f":"ROW()+1-Internals!$D$19","v":2}]
[null,null,null,null,{"$f":"Literals!B17","v":"Subtotal"},null,{"$f":"SUM( G12:G13)","v":0},{"$f":"SUM( H12:H13)","v":0},null,null,{"$f":"SUM( K12:K13)","v":0},null,{"$f":"SUM( M12:M13)","v":0},null,{"$f":"SUM( O12:O13)","v":0},{"$f":"SUM( P12:P13)","v":0},{"$f":"SUM( Q12:Q13)","v":0},{"$f":"SUM( R12:R13)","v":0}]
[]
[null,null,null,null,{"$f":"Literals!B34","v":"Equalize subtotal"},null,{"$f":"SUM(H14,-G14)/2","v":0},{"$f":"SUM(G14,-H14)/2","v":0},null,null,{"$f":"SUM(M14,-K14)/2","v":0},null,{"$f":"SUM(K14,-M14)/2","v":0},null,{"$f":"SUM(P14,-O14)/2","v":0},{"$f":"SUM(O14,-P14)/2","v":0},{"$f":"SUM(R14,-Q14)/2","v":0},{"$f":"SUM(Q14,-R14)/2","v":0}]
[]
[{"$f":"Internals!A5","v":2},{"$f":"Internals!B20","v":"Credit Cards"},null,{"$f":"Literals!B38","v":"Signor"},{"$f":"Literals!B37","v":"Institution  +  last 4"},null,{"$f":"FmtCtrls!D41","v":"Petitioner"},{"$f":"FmtCtrls!D42","v":"Respondent"},null,{"$f":"Literals!B6","v":"Date"},{"$f":"Literals!B7","v":"Valuations"},{"$f":"Literals!B6","v":"Date"},{"$f":"Literals!B7","v":"Valuations"},null,{"$f":"FmtCtrls!D41","v":"Petitioner"},{"$f":"FmtCtrls!D42","v":"Respondent"},{"$f":"FmtCtrls!D41","v":"Petitioner"},{"$f":"FmtCtrls!D42","v":"Respondent"}]
["Z",{"$f":"ROW()+1-Internals!$D$20","v":1}]
["Z",{"$f":"ROW()+1-Internals!$D$20","v":2}]
[null,null,null,null,{"$f":"Literals!B17","v":"Subtotal"},null,{"$f":"SUM( G19:G20)","v":0},{"$f":"SUM( H19:H20)","v":0},null,null,{"$f":"SUM( K19:K20)","v":0},null,{"$f":"SUM( M19:M20)","v":0},null,{"$f":"SUM( O19:O20)","v":0},{"$f":"SUM( P19:P20)","v":0},{"$f":"SUM( Q19:Q20)","v":0},{"$f":"SUM( R19:R20)","v":0}]
[]
[null,null,null,null,{"$f":"Literals!B34","v":"Equalize subtotal"},null,{"$f":"SUM(H21,-G21)/2","v":0},{"$f":"SUM(G21,-H21)/2","v":0},null,null,{"$f":"SUM(M21,-K21)/2","v":0},null,{"$f":"SUM(K21,-M21)/2","v":0},null,{"$f":"SUM(P21,-O21)/2","v":0},{"$f":"SUM(O21,-P21)/2","v":0},{"$f":"SUM(R21,-Q21)/2","v":0},{"$f":"SUM(Q21,-R21)/2","v":0}]
[]
[{"$f":"Internals!A6","v":3},{"$f":"Internals!B21","v":"Vehicle Loans"},null,{"$f":"Literals!B38","v":"Signor"},{"$f":"Literals!B37","v":"Institution  +  last 4"},null,{"$f":"FmtCtrls!D41","v":"Petitioner"},{"$f":"FmtCtrls!D42","v":"Respondent"},null,{"$f":"Literals!B6","v":"Date"},{"$f":"Literals!B7","v":"Valuations"},{"$f":"Literals!B6","v":"Date"},{"$f":"Literals!B7","v":"Valuations"},null,{"$f":"FmtCtrls!D41","v":"Petitioner"},{"$f":"FmtCtrls!D42","v":"Respondent"},{"$f":"FmtCtrls!D41","v":"Petitioner"},{"$f":"FmtCtrls!D42","v":"Respondent"}]
["Z",{"$f":"ROW()+1-Internals!$D$21","v":1}]
["Z",{"$f":"ROW()+1-Internals!$D$21","v":2}]
[null,null,null,null,{"$f":"Literals!B17","v":"Subtotal"},null,{"$f":"SUM( G26:G27)","v":0},{"$f":"SUM( H26:H27)","v":0},null,null,{"$f":"SUM( K26:K27)","v":0},null,{"$f":"SUM( M26:M27)","v":0},null,{"$f":"SUM( O26:O27)","v":0},{"$f":"SUM( P26:P27)","v":0},{"$f":"SUM( Q26:Q27)","v":0},{"$f":"SUM( R26:R27)","v":0}]
[]
[null,null,null,null,{"$f":"Literals!B34","v":"Equalize subtotal"},null,{"$f":"SUM(H28,-G28)/2","v":0},{"$f":"SUM(G28,-H28)/2","v":0},null,null,{"$f":"SUM(M28,-K28)/2","v":0},null,{"$f":"SUM(K28,-M28)/2","v":0},null,{"$f":"SUM(P28,-O28)/2","v":0},{"$f":"SUM(O28,-P28)/2","v":0},{"$f":"SUM(R28,-Q28)/2","v":0},{"$f":"SUM(Q28,-R28)/2","v":0}]
[]
[{"$f":"Internals!A8","v":5},{"$f":"Internals!B22","v":"IRS Debt"},null,{"$f":"Literals!B38","v":"Signor"},{"$f":"Literals!B5","v":"Item"},null,{"$f":"FmtCtrls!D41","v":"Petitioner"},{"$f":"FmtCtrls!D42","v":"Respondent"},null,{"$f":"Literals!B6","v":"Date"},{"$f":"Literals!B7","v":"Valuations"},{"$f":"Literals!B6","v":"Date"},{"$f":"Literals!B7","v":"Valuations"},null,{"$f":"FmtCtrls!D41","v":"Petitioner"},{"$f":"FmtCtrls!D42","v":"Respondent"},{"$f":"FmtCtrls!D41","v":"Petitioner"},{"$f":"FmtCtrls!D42","v":"Respondent"}]
["Z",{"$f":"ROW()+1-Internals!$D$22","v":1}]
["Z",{"$f":"ROW()+1-Internals!$D$22","v":2}]
[null,null,null,null,{"$f":"Literals!B17","v":"Subtotal"},null,{"$f":"SUM( G33:G34)","v":0},{"$f":"SUM( H33:H34)","v":0},null,null,{"$f":"SUM( K33:K34)","v":0},null,{"$f":"SUM( M33:M34)","v":0},null,{"$f":"SUM( O33:O34)","v":0},{"$f":"SUM( P33:P34)","v":0},{"$f":"SUM( Q33:Q34)","v":0},{"$f":"SUM( R33:R34)","v":0}]
[]
[null,null,null,null,{"$f":"Literals!B34","v":"Equalize subtotal"},null,{"$f":"SUM(H35,-G35)/2","v":0},{"$f":"SUM(G35,-H35)/2","v":0},null,null,{"$f":"SUM(M35,-K35)/2","v":0},null,{"$f":"SUM(K35,-M35)/2","v":0},null,{"$f":"SUM(P35,-O35)/2","v":0},{"$f":"SUM(O35,-P35)/2","v":0},{"$f":"SUM(R35,-Q35)/2","v":0},{"$f":"SUM(Q35,-R35)/2","v":0}]
[]
[{"$f":"Internals!A9","v":6},{"$f":"Internals!B23","v":"Contingent Liabilities"},null,{"$f":"Literals!B38","v":"Signor"},{"$f":"Literals!B5","v":"Item"},null,{"$f":"FmtCtrls!D41","v":"Petitioner"},{"$f":"FmtCtrls!D42","v":"Respondent"},null,{"$f":"Literals!B6","v":"Date"},{"$f":"Literals!B7","v":"Valuations"},{"$f":"Literals!B6","v":"Date"},{"$f":"Literals!B7","v":"Valuations"},null,{"$f":"FmtCtrls!D41","v":"Petitioner"},{"$f":"FmtCtrls!D42","v":"Respondent"},{"$f":"FmtCtrls!D41","v":"Petitioner"},{"$f":"FmtCtrls!D42","v":"Respondent"}]
["Z",{"$f":"ROW()+1-Internals!$D$23","v":1}]
["Z",{"$f":"ROW()+1-Internals!$D$23","v":2}]
[null,null,null,null,{"$f":"Literals!B17","v":"Subtotal"},null,{"$f":"SUM( G40:G41)","v":0},{"$f":"SUM( H40:H41)","v":0},null,null,{"$f":"SUM( K40:K41)","v":0},null,{"$f":"SUM( M40:M41)","v":0},null,{"$f":"SUM( O40:O41)","v":0},{"$f":"SUM( P40:P41)","v":0},{"$f":"SUM( Q40:Q41)","v":0},{"$f":"SUM( R40:R41)","v":0}]
[]
[null,null,null,null,{"$f":"Literals!B34","v":"Equalize subtotal"},null,{"$f":"SUM(H42,-G42)/2","v":0},{"$f":"SUM(G42,-H42)/2","v":0},null,null,{"$f":"SUM(M42,-K42)/2","v":0},null,{"$f":"SUM(K42,-M42)/2","v":0},null,{"$f":"SUM(P42,-O42)/2","v":0},{"$f":"SUM(O42,-P42)/2","v":0},{"$f":"SUM(R42,-Q42)/2","v":0},{"$f":"SUM(Q42,-R42)/2","v":0}]
[]
[null,{"$f":"Internals!B24","v":"Total Liabilities"},null,null,null,null,{"$f":"SUM(G14,G21,G28,G35,G42)","v":0},{"$f":"SUM(H14,H21,H28,H35,H42)","v":0},null,null,{"$f":"SUM(K14,K21,K28,K35,K42)","v":0},null,{"$f":"SUM(M14,M21,M28,M35,M42)","v":0},null,{"$f":"SUM(O14,O21,O28,O35,O42)","v":0},{"$f":"SUM(P14,P21,P28,P35,P42)","v":0},{"$f":"SUM(Q14,Q21,Q28,Q35,Q42)","v":0},{"$f":"SUM(R14,R21,R28,R35,R42)","v":0}]
[]
[null,null,null,null,{"$f":"Literals!B34","v":"Equalize subtotal"},null,{"$f":"SUM(H46,-G46)/2","v":0},{"$f":"SUM(G46,-H46)/2","v":0},null,null,{"$f":"SUM(M46,-K46)/2","v":0},null,{"$f":"SUM(K46,-M46)/2","v":0},null,{"$f":"SUM(P46,-O46)/2","v":0},{"$f":"SUM(O46,-P46)/2","v":0},{"$f":"SUM(R46,-Q46)/2","v":0},{"$f":"SUM(Q46,-R46)/2","v":0}]
[null,{"$f":"Literals!B14","v":"• eQuit v36  © 2019  Diana M. Tennis"}]

{"sheet":"Liabilities.Misc","index":8,"n_rows":25,"n_cols":18,"rows_kept":25,"cut":false,"hidden":false,"merged":[[6,14,6,17],[1,3,1,17],[3,16,3,17],[6,1,7,1],[6,3,7,4],[6,6,6,7],[7,6,7,7],[7,9,7,10],[7,11,7,12],[7,14,7,15],[7,16,7,17],[6,9,6,12],[2,6,2,7],[2,16,2,17]]}
[]
[null,{"$f":"Literals!B9","v":"Case Style"},null,{"$f":"IF( ISBLANK( 'Case Style'!K10), \"\", 'Case Style'!K10 )","v":""}]
[null,{"$f":"Literals!D9","v":"Case Number"},null,{"$f":"IF( ISBLANK( 'Case Style'!K12), \"\", 'Case Style'!K12 )","v":""},null," "," ",null,null," "]
[null,{"$f":"Literals!B10","v":"Date of Marriage"},null,{"$f":"IF( ISBLANK( 'Case Style'!K14), \"\", 'Case Style'!K14)","v":""},null," "," "," ",null," "]
[null,{"$f":"Literals!B11","v":"Date of Filing"},null,{"$f":"IF( ISBLANK( 'Case Style'!K16), \"\", 'Case Style'!K16)","v":""},null," "," "," ",null," "]
[null,null,null,null,null," "," "," ",null," "]
[null,{"$f":"Internals!B18","v":"Marital Liabilities"},null,null,null,null,{"$f":"Literals!B8","v":"Court Determined"},null,null,{"$f":"Literals!B7","v":"Valuations"},null,null,null,null,{"$f":"Literals!B19","v":"Proposed Distributions"}]
[null,null,null,null,null,null,{"$f":"Literals!D8","v":"Distributions"},null,null,{"$f":"FmtCtrls!D41","v":"Petitioner"},null,{"$f":"FmtCtrls!D42","v":"Respondent"},null,null,{"$f":"FmtCtrls!D41","v":"Petitioner"},null,{"$f":"FmtCtrls!D42","v":"Respondent"}]
[]
[]
[null,{"$f":"Internals!B26","v":"Miscellaneous"},null,{"$f":"Literals!B4","v":"Possession"},{"$f":"Literals!B5","v":"Item"},null,{"$f":"FmtCtrls!D41","v":"Petitioner"},{"$f":"FmtCtrls!D42","v":"Respondent"},null,{"$f":"Literals!B6","v":"Date"},{"$f":"Literals!B7","v":"Valuations"},{"$f":"Literals!B6","v":"Date"},{"$f":"Literals!B7","v":"Valuations"},null,{"$f":"FmtCtrls!D41","v":"Petitioner"},{"$f":"FmtCtrls!D42","v":"Respondent"},{"$f":"FmtCtrls!D41","v":"Petitioner"},{"$f":"FmtCtrls!D42","v":"Respondent"}]
["Z",{"$f":"ROW()+1-Internals!$D$26","v":1}]
["Z",{"$f":"ROW()+1-Internals!$D$26","v":2}]
[null,{"$f":"ROW()+1-Internals!$D$26","v":3}]
["Z",{"$f":"ROW()+1-Internals!$D$26","v":4}]
[null,{"$f":"ROW()+1-Internals!$D$26","v":5}]
["Z",{"$f":"ROW()+1-Internals!$D$26","v":6}]
[null,null,null,null,{"$f":"Literals!B17","v":"Subtotal"},null,{"$f":"SUM( G12:G17)","v":0},{"$f":"SUM( H12:H17)","v":0},null,null,{"$f":"SUM( K12:K17)","v":0},null,{"$f":"SUM( M12:M17)","v":0},null,{"$f":"SUM( O12:O17)","v":0},{"$f":"SUM( P12:P17)","v":0},{"$f":"SUM( Q12:Q17)","v":0},{"$f":"SUM( R12:R17)","v":0}]
[" "]
[null,null,null,null,{"$f":"Literals!B34","v":"Equalize subtotal"},null,{"$f":"SUM(H18,-G18)/2","v":0},{"$f":"SUM(G18,-H18)/2","v":0},null,null,{"$f":"SUM(M18,-K18)/2","v":0},null,{"$f":"SUM(K18,-M18)/2","v":0},null,{"$f":"SUM(P18,-O18)/2","v":0},{"$f":"SUM(O18,-P18)/2","v":0},{"$f":"SUM(R18,-Q18)/2","v":0},{"$f":"SUM(Q18,-R18)/2","v":0}]
[]
[null,{"$f":"Internals!B27","v":"Total Miscellaneous"},null,null,null,null,{"$f":"G18","v":0},{"$f":"H18","v":0},null,null,{"$f":"K18","v":0},null,{"$f":"M18","v":0},null,{"$f":"O18","v":0},{"$f":"P18","v":0},{"$f":"Q18","v":0},{"$f":"R18","v":0}]
[]
[]
[null,{"$f":"Literals!B14","v":"• eQuit v36  © 2019  Diana M. Tennis"}]

{"sheet":"Liabilities.Notes","index":9,"n_rows":28,"n_cols":9,"rows_kept":28,"cut":false,"hidden":false,"merged":[[1,3,1,6],[6,1,7,1],[6,3,7,6],[24,5,24,6],[16,5,16,6]]}
[]
[null,{"$f":"Literals!B9","v":"Case Style"},null,{"$f":"IF( ISBLANK( 'Case Style'!K10), \"\", 'Case Style'!K10 )","v":""},null,null,null,null,{"$f":"Literals!D16","v":"°"}]
[null,{"$f":"Literals!D9","v":"Case Number"},null,{"$f":"IF( ISBLANK( 'Case Style'!K12), \"\", 'Case Style'!K12 )","v":""}]
[null,{"$f":"Literals!B10","v":"Date of Marriage"},null,{"$f":"IF( ISBLANK( 'Case Style'!K14), \"\", 'Case Style'!K14)","v":""}]
[null,{"$f":"Literals!B11","v":"Date of Filing"},null,{"$f":"IF( ISBLANK( 'Case Style'!K16), \"\", 'Case Style'!K16)","v":""}]
[]
[null,{"$f":"Literals!B22","v":"Liability Notes"}]
[]
[]
[]
[null,{"$f":"FmtCtrls!D41","v":"Petitioner"},null,{"$f":"Literals!B18","v":"Category"},{"$f":"Literals!B26","v":"Liability"},{"$f":"Literals!B6","v":"Date"},{"$f":"Literals!B20","v":"Notes"}]
["Z",{"$f":"ROW()+1-Internals!$D$35","v":1}]
["Z",{"$f":"ROW()+1-Internals!$D$35","v":2}]
["Z",{"$f":"ROW()+1-Internals!$D$35","v":3}]
["Z",{"$f":"ROW()+1-Internals!$D$35","v":4}]
["Z",{"$f":"ROW()+1-Internals!$D$35","v":5}]
[]
[]
[null,{"$f":"FmtCtrls!D42","v":"Respondent"},null,{"$f":"Literals!B18","v":"Category"},{"$f":"Literals!B26","v":"Liability"},{"$f":"Literals!B6","v":"Date"},{"$f":"Literals!B20","v":"Notes"}]
["Z",{"$f":"ROW()+1-Internals!$D$36","v":1}]
["Z",{"$f":"ROW()+1-Internals!$D$36","v":2}]
["Z",{"$f":"ROW()+1-Internals!$D$36","v":3}]
["Z",{"$f":"ROW()+1-Internals!$D$36","v":4}]
["Z",{"$f":"ROW()+1-Internals!$D$36","v":5}]
[]
[]
[]
[null,{"$f":"Literals!B14","v":"• eQuit v36  © 2019  Diana M. Tennis"}]

{"sheet":"Summary","index":10,"n_rows":20,"n_cols":11,"rows_kept":20,"cut":false,"hidden":false,"merged":[[6,1,7,1],[1,3,1,8],[7,5,7,6],[7,7,7,8],[6,3,6,4],[7,3,7,4],[6,5,6,6],[6,7,6,8]]}
[]
[null,{"$f":"Literals!B9","v":"Case Style"},null,{"$f":"IF( ISBLANK( 'Case Style'!K10), \"\", 'Case Style'!K10 )","v":""},null,null,null,null,null,null,{"$f":"Literals!D16","v":"°"}]
[null,{"$f":"Literals!D9","v":"Case Number"},null,{"$f":"IF( ISBLANK( 'Case Style'!K12), \"\", 'Case Style'!K12 )","v":""}]
[null,{"$f":"Literals!B10","v":"Date of Marriage"},null,{"$f":"IF( ISBLANK( 'Case Style'!K14), \"\", 'Case Style'!K14 )","v":""}]
[null,{"$f":"Literals!B11","v":"Date of Filing"},null,{"$f":"IF( ISBLANK( 'Case Style'!K16), \"\", 'Case Style'!K16)","v":""}]
[]
[null,{"$f":"Literals!B28","v":"Summary"},null,{"$f":"Literals!B8","v":"Court Determined"},null,{"$f":"Literals!B19","v":"Proposed Distributions"},null,{"$f":"Literals!B19","v":"Proposed Distributions"}]
[null,null,null,{"$f":"Literals!B23","v":"Distribution"},null,"Husband",null,{"$f":"FmtCtrls!D42","v":"Respondent"}]
[null,null,null,{"$f":"FmtCtrls!D41","v":"Petitioner"},{"$f":"FmtCtrls!D42","v":"Respondent"},{"$f":"FmtCtrls!D41","v":"Petitioner"},{"$f":"FmtCtrls!D42","v":"Respondent"},{"$f":"FmtCtrls!D41","v":"Petitioner"},{"$f":"FmtCtrls!D42","v":"Respondent"}]
[]
[null,{"$f":"Internals!B12","v":"Total Assets"},null,{"$f":"SUM(Assets!G67,Assets.Misc!G22)","v":0},{"$f":"SUM(Assets!H67,Assets.Misc!H22)","v":0},{"$f":"SUM(Assets!O67,Assets.Misc!O22)","v":0},{"$f":"SUM(Assets!P67,Assets.Misc!P22)","v":0},{"$f":"SUM(Assets!Q67,Assets.Misc!Q22)","v":0},{"$f":"SUM(Assets!R67,Assets.Misc!R22)","v":0}]
[null,{"$f":"Internals!B24","v":"Total Liabilities"},null,{"$f":"SUM(Liabilities!G46,Liabilities.Misc!G22)","v":0},{"$f":"SUM(Liabilities!H46,Liabilities.Misc!H22)","v":0},{"$f":"SUM(Liabilities!O46,Liabilities.Misc!O22)","v":0},{"$f":"SUM(Liabilities!P46,Liabilities.Misc!P22)","v":0},{"$f":"SUM(Liabilities!Q46,Liabilities.Misc!Q22)","v":0},{"$f":"SUM(Liabilities!R46,Liabilities.Misc!R22)","v":0}]
[null,{"$f":"Internals!B44","v":"Net"},null,{"$f":"SUM(D11:D12)","v":0},0,0,0,0,0]
[]
[null,{"$f":"Literals!B12","v":"Equalizing Payment"},null,{"$f":"IF( D13>E13, -Internals!C45, Internals!C45 )","v":0},{"$f":"IF( E13>D13, -Internals!C45, Internals!C45 )","v":0},{"$f":"IF( F13>G13, -Internals!C46, Internals!C46 )","v":0},{"$f":"IF( G13>F13, -Internals!C46, Internals!C46 )","v":0},{"$f":"IF( H13>I13, -Internals!C47, Internals!C47 )","v":0},{"$f":"IF( I13>H13, -Internals!C47, Internals!C47 )","v":0}]
[]
[null,{"$f":"Literals!B40","v":"Net Equalized"},null,{"$f":"SUM(D13,D15)","v":0},0,0,0,0,0]
[]
[]
[null,{"$f":"Literals!B14","v":"• eQuit v36  © 2019  Diana M. Tennis"}]

{"sheet":"Settings","index":11,"n_rows":5,"n_cols":19,"rows_kept":5,"cut":false,"hidden":false,"merged":[[4,9,4,10],[5,9,5,10]]}
[]
[null,"Layout Options",null,null,"Print Options",null,null,null,null,"Tool Options",null,null,null,null,"Input/Output Options",null,null,null,"Review Options"]
[]
[]
[null,null,null,null,null,null,null,null,null,"    Add increment",null,1]

{"sheet":"Internals","index":12,"n_rows":47,"n_cols":12,"rows_kept":47,"cut":false,"hidden":true,"merged":[]}
[]
[null,"Assets","Header","Data[1]","Data[n]","Subtotal","# Rows","# Default","Display","EQ\nDisplay","Assets Drop list","EQ\nSubtotal"]
[null,"Marital Assets",{"$f":"MATCH(B3,Assets!B:B,0)","v":7},".",".","."]
[1,"Real Property",{"$f":"MATCH(B4,Assets!B:B,0)","v":11},{"$f":"SUM(C4,1)","v":12},{"$f":"SUM(C5,-C40)","v":13},{"$f":"SUM(E4,1)","v":14},{"$f":"E4-D4+1","v":2},2,true,true,{"$f":"B4","v":"Real Property"},{"$f":"F4+2","v":16}]
[{"$f":"A4+1","v":2},"Accounts",{"$f":"MATCH(B5,Assets!B:B,0)","v":18},19,{"$f":"SUM(C6,-C40)","v":20},21,2,2,true,true,"Accounts",{"$f":"F5+2","v":23}]
[3,"Retirement",{"$f":"MATCH(B6,Assets!B:B,0)","v":25},26,{"$f":"SUM(C7,-C40)","v":27},28,2,2,true,true,"Retirement",30]
[4,"Pre-Tax Retirement",{"$f":"MATCH(B7,Assets!B:B,0)","v":32},{"$f":"SUM(C7,1)","v":33},{"$f":"SUM(C8,-C40)","v":34},{"$f":"SUM(E7,1)","v":35},{"$f":"E7-D7+1","v":2},2,true,true,{"$f":"B7","v":"Pre-Tax Retirement"},37]
[5,"Business Interests",{"$f":"MATCH(B8,Assets!B:B,0)","v":39},40,{"$f":"SUM(C9,-C40)","v":41},42,2,2,true,true,"Business Interests",44]
[6,"Personal Property",{"$f":"MATCH(B9,Assets!B:B,0)","v":46},47,{"$f":"SUM(C10,-C40)","v":48},49,2,2,true,true,"Personal Property",51]
[7,"Vehicles",{"$f":"MATCH(B10,Assets!B:B,0)","v":53},54,{"$f":"SUM(C11,-C40)","v":55},56,2,2,true,true,{"$f":"B10","v":"Vehicles"},58]
[8,"Contingent Assets",{"$f":"MATCH(B11,Assets!B:B,0)","v":60},{"$f":"SUM(C11,1)","v":61},{"$f":"SUM(C12,-C40)","v":62},{"$f":"SUM(E11,1)","v":63},{"$f":"E11-D11+1","v":2},2,false,true,{"$f":"B11","v":"Contingent Assets"},65]
[null,"Total Assets",{"$f":"MATCH(B12,Assets!B:B,0)","v":67},{"$f":"C12","v":67},{"$f":"C12","v":67},{"$f":"C12","v":67},{"$f":"SUM(G4:G11)","v":16},null,true,true,{"$f":"B14","v":"Miscellaneous"},69]
[]
[{"$f":"A11+1","v":9},"Miscellaneous",{"$f":"MATCH(B14,Assets.Misc!B:B,0)","v":11},{"$f":"SUM(C14,1)","v":12},{"$f":"SUM(C15,-C40)","v":17},{"$f":"SUM(E14,1)","v":18},{"$f":"E14-D14+1","v":6},6,true,true,null,{"$f":"F14+2","v":20}]
[null,"Total Miscellaneous",{"$f":"MATCH(B15,Assets.Misc!B:B,0)","v":22},{"$f":"C15","v":22},{"$f":"C15","v":22},{"$f":"C15","v":22},{"$f":"G14","v":6},null,true,true]
[]
[null,"Liabilities","Header","Data[1]","Data[n]","Subtotal","# Rows","# Default","Display","EQ\nDisplay","Liabilities Drop list","EQ\nSubtotal"]
[null,"Marital Liabilities",{"$f":"MATCH(B18,Liabilities!B:B,0)","v":7},".",".","."]
[1,"Mortgage",{"$f":"MATCH(B19,Liabilities!B:B,0)","v":11},{"$f":"SUM(C19,1)","v":12},{"$f":"SUM(C20,-C40)","v":13},{"$f":"SUM(E19,1)","v":14},{"$f":"E19-D19+1","v":2},2,true,true,{"$f":"B19","v":"Mortgage"},{"$f":"F19+2","v":16}]
[{"$f":"A19+1","v":2},"Credit Cards",{"$f":"MATCH(B20,Liabilities!B:B,0)","v":18},{"$f":"SUM(C20,1)","v":19},{"$f":"SUM(C21,-C40)","v":20},{"$f":"SUM(E20,1)","v":21},{"$f":"E20-D20+1","v":2},2,true,true,{"$f":"B20","v":"Credit Cards"},23]
[{"$f":"A20+1","v":3},"Vehicle Loans",{"$f":"MATCH(B21,Liabilities!B:B,0)","v":25},{"$f":"SUM(C21,1)","v":26},{"$f":"SUM(C22,-C40)","v":27},{"$f":"SUM(E21,1)","v":28},{"$f":"E21-D21+1","v":2},2,true,true,{"$f":"B21","v":"Vehicle Loans"},30]
[{"$f":"A21+1","v":4},"IRS Debt",{"$f":"MATCH(B22,Liabilities!B:B,0)","v":32},{"$f":"SUM(C22,1)","v":33},{"$f":"SUM(C23,-C40)","v":34},{"$f":"SUM(E22,1)","v":35},{"$f":"E22-D22+1","v":2},2,true,true,{"$f":"B22","v":"IRS Debt"},37]
[{"$f":"A22+1","v":5},"Contingent Liabilities",{"$f":"MATCH(B23,Liabilities!B:B,0)","v":39},{"$f":"SUM(C23,1)","v":40},{"$f":"SUM(C24,-C40)","v":41},{"$f":"SUM(E23,1)","v":42},{"$f":"E23-D23+1","v":2},2,true,true,{"$f":"B23","v":"Contingent Liabilities"},44]
[null,"Total Liabilities",{"$f":"MATCH(B24,Liabilities!B:B,0)","v":46},{"$f":"C24","v":46},{"$f":"C24","v":46},{"$f":"C24","v":46},{"$f":"SUM(G19:G23)","v":10},null,true,true,{"$f":"B26","v":"Miscellaneous"},48]
[]
[{"$f":"A23+1","v":6},{"$f":"B14","v":"Miscellaneous"},{"$f":"MATCH(B26,Liabilities.Misc!B:B,0)","v":11},{"$f":"SUM(C26,1)","v":12},{"$f":"SUM(C27,-C40)","v":17},{"$f":"SUM(E26,1)","v":18},{"$f":"E26-D26+1","v":6},6,true,true,null,{"$f":"F26+2","v":20}]
[null,"Total Miscellaneous",{"$f":"MATCH(B27,Liabilities.Misc!B:B,0)","v":22},{"$f":"C27","v":22},{"$f":"C27","v":22},{"$f":"C27","v":22},{"$f":"G26","v":6},null,true]
[]
[null,"Assets Notes","Header","Data[1]","Data[n]","Subtotal","# Rows","# Default","Display"]
[1,{"$f":"FmtCtrls!D41","v":"Petitioner"},{"$f":"MATCH(B30,Assets.Notes!B:B,0)","v":11},{"$f":"SUM(C30,1)","v":12},{"$f":"SUM(C31,-3)","v":16},{"$f":"SUM(E30,1)","v":17},{"$f":"E30-D30+1","v":5},5,true]
[2,{"$f":"FmtCtrls!D42","v":"Respondent"},{"$f":"MATCH(B31,Assets.Notes!B:B,0)","v":19},{"$f":"SUM(C31,1)","v":20},{"$f":"SUM(C32,-4)","v":24},{"$f":"SUM(E31,1)","v":25},{"$f":"E31-D31+1","v":5},5,true]
[null,{"$f":"Literals!B14","v":"• eQuit v36  © 2019  Diana M. Tennis"},{"$f":"MATCH(B32,Assets.Notes!B:B,0)","v":28},null,null,null,{"$f":"SUM(G30:G31)","v":10}]
[]
[null,"Liabilities Notes","Header","Data[1]","Data[n]","Subtotal","# Rows","# Default","Display"]
[1,{"$f":"FmtCtrls!D41","v":"Petitioner"},{"$f":"MATCH(B35,Liabilities.Notes!B:B,0)","v":11},{"$f":"SUM(C35,1)","v":12},{"$f":"SUM(C36,-3)","v":16},{"$f":"SUM(E35,1)","v":17},{"$f":"E35-D35+1","v":5},5,true]
[2,{"$f":"FmtCtrls!D42","v":"Respondent"},{"$f":"MATCH(B36,Liabilities.Notes!B:B,0)","v":19},{"$f":"SUM(C36,1)","v":20},{"$f":"SUM(C37,-4)","v":24},{"$f":"SUM(E36,1)","v":25},{"$f":"E36-D36+1","v":5},5,true]
[null,{"$f":"Literals!B14","v":"• eQuit v36  © 2019  Diana M. Tennis"},{"$f":"MATCH(B37,Liabilities.Notes!B:B,0)","v":28},null,null,null,{"$f":"SUM(G35:G36)","v":10}]
[]
[]
[null,"# rows between categories",5]
[]
[]
[]
[null,"Net"]
[null,"Equalizing Payment - Court",{"$f":"ABS(SUM(Summary!D13,-Summary!E13)/2)","v":0},{"$f":"2*C45","v":0}]
[null,"Equalizing Payment - Petitioner",{"$f":"ABS(SUM(Summary!F13,-Summary!G13)/2)","v":0}]
[null,"Equalizing Payment - Respondent",{"$f":"ABS(SUM(Summary!H13,-Summary!I13)/2)","v":0}]

{"sheet":"Literals","index":13,"n_rows":80,"n_cols":5,"rows_kept":80,"cut":false,"hidden":true,"merged":[]}
[]
[null,"Miscellaneous"]
[null,"Type"]
[null,"Possession"]
[null,"Item"]
[null,"Date"]
[null,"Valuations",null,"Valuation"]
[null,"Court Determined",null,"Distributions"]
[null,"Case Style",null,"Case Number"]
[null,"Date of Marriage",null,{"$f":"CONCATENATE(B45,\" | \",B46,\" | \",B47,\" | \",B48,\" | \",B49)","v":"Husband | Wife | Joint | Petitioner | Respondent"}]
[null,"Date of Filing"]
[null,"Equalizing Payment"]
[null,"Disparity"]
[null,{"$f":"CONCATENATE(\"• eQuit \",B32,\"  \",E14)","v":"• eQuit v36  © 2019  Diana M. Tennis"},null,"eQuit","© 2019  Diana M. Tennis"]
[null,"• Subtotal"]
[null,"•",null,"°"]
[null,"Subtotal"]
[null,"Category"]
[null,"Proposed Distributions"]
[null,"Notes"]
[null,"Asset Notes"]
[null,"Liability Notes"]
[null,"Distribution"]
[null,"Proposed"]
[null,"Asset",null,"Assets"]
[null,"Liability",null,"Liabilities"]
[null,"Equitable Distribution"]
[null,"Summary",null,"Equitable Distribution Summary"]
[null,"Petitioner"]
[null,"Respondent"]
[null,"✓"]
[null,"v36"]
[null,{"$f":"CONCATENATE( \"Total \", B12)","v":"Total Equalizing Payment"},null,"Equalizing Amt"]
[null,"Equalize subtotal",null,"Equalize subtotal?  Differential?  Disparity?"]
[null,"Titled"]
[null,"Address"]
[null,"Institution  +  last 4",null,"Institution + last 4 digits of account number"]
[null,"Signor"]
[null,"Vehicle"]
[null,"Net Equalized"]
[null,"Role"]
[]
[null,"Possession DropList",null,"• Dynamic (uses labels established in Settings)"]
[]
[null,"Husband","•",{"$f":"FmtCtrls!D41","v":"Petitioner"}]
[null,"Wife","•",{"$f":"FmtCtrls!D42","v":"Respondent"}]
[null,"Joint",null,"Joint"]
[null,{"$f":"B29","v":"Petitioner"}]
[null,{"$f":"B30","v":"Respondent"}]
[]
[null,"Role DropList",null,"• Dynamic (uses labels established in Settings)"]
[]
[null,{"$f":"B47","v":"Joint"},"•",{"$f":"FmtCtrls!D41","v":"Petitioner"}]
[null,{"$f":"B29","v":"Petitioner"},"•",{"$f":"FmtCtrls!D42","v":"Respondent"}]
[null,{"$f":"B30","v":"Respondent"},null,"Joint"]
[null,"Judge",null,"Judge"]
[]
[null,"DropList #3 (Test/Unused???)"]
[]
[null,{"$f":"B29","v":"Petitioner"}]
[null,{"$f":"B30","v":"Respondent"}]
[]
[null,"Petitioner/Respondent DropList (Settings)"]
[null,null,"•",0]
[null,"Husband","•",1]
[null,"Wife","•",2]
[null,"Husband (1)","•",3]
[null,"Husband (2)","•",4]
[null,"Wife (1)","•",5]
[null,"Wife (2)","•",6]
[null,{"$f":"B29","v":"Petitioner"},"•",7]
[null,{"$f":"B30","v":"Respondent"},"•",8]
[null,null," "]
[null,null," "]
[]
[null,"Welcome to the Equitable Distribution Spreadsheet",null,"Equitable Distribution Spreadsheet"]
[null,"Entity"]
[null,"Select the categories that you wish to include in this report:"]
[null,"Assets"]
[null,"Liabilities"]

{"sheet":"FmtCtrls","index":14,"n_rows":70,"n_cols":8,"rows_kept":70,"cut":false,"hidden":true,"merged":[]}
[]
[null,"Settings"]
[null,"Columns:Valuations",true]
[null,"Columns:Proposed Distributions",true]
[null,"Columns:Court Distributions",true]
[null,"Lock Entire Row",false]
[null,"Expand Description",true]
[null,"Simulate:Selected Row",false]
[null,"Print:All sheets",false]
[null,"Print:Minimalist",1]
[null,"Simulate:Multi-line descriptions",false]
[null,"Reformat on lock",false]
[null,"Lock:Petitioner",false]
[null,"Lock:Respondent",false]
[null,"Lock:Joint",false]
[null,"Lock:Judge",false]
[null,"Sort by",1]
[null,"Sort order",1]
[null,"Distributions:Balance",1]
[null,"Reset:Alignment",false]
[null,"Reset:Validation",false]
[null,"Reset:Autofit",false]
[null,"Freeze pane",true]
[null,"Print:Subset pages",1]
[null,"Print:Page/time stamp",true]
[null,"Reformat type",1]
[null,"Reformat debug",false]
[null,"Reformat by category",false]
[null,"Row numbers",false]
[null,"Delete:Clear first",1]
[null,"Import:Type",1]
[null,"Sort order (possession)",-1,-1,-1,-1,-1,-1]
[null,"Sort order (item)",-1,-1,-1,-1,-1,-1]
[null,"Sort independently",1]
[null,"Font:Row number",1]
[null,"Font:Hyperlink","Hyperlink"]
[null,"Font:Cell","Cell"]
[null,"Print:Cover sheet",true]
[null,"Rename possessor -\nFrom / to",0,0]
[]
[null,{"$f":"Literals!B29","v":"Petitioner"},7,{"$f":"OFFSET(Literals!B64,FmtCtrls!C41,0,1,1)","v":"Petitioner"}]
[null,{"$f":"Literals!B30","v":"Respondent"},8,{"$f":"OFFSET(Literals!B64,FmtCtrls!C42,0,1,1)","v":"Respondent"}]
[null,"Role",3,{"$f":"IF('Case Style'!K22<>\" \",\"Joint\",'Case Style'!K22)","v":"Joint"}]
[]
[]
[null,"Pause:Debug",false]
[null,"Lock:On",true]
[]
[null,"Review:Cycle/Superimpose",2]
[null,"Review:Current rule #",1]
[null,"Review:#1 Possession",true]
[null,"Review:#2 Court <> Agreement",true]
[null,"Review:#3 Valuation != sum",true]
[null,"Review:#4 Non-numerical amts",true]
[null,"Review:#5 Required last 4",true]
[null,"Review:#6 Valuations equal",true]
[null,"Review:#7",false]
[null,"Review:#8",false]
[null,"Review:Display Pallet",false]
[null,"Review:Select all",true]
[]
[null,"Print:Compress rows",true]
[null,"Print:Compress categories",true]
[null,"Print:Compress sheets",true]
[null,"Print:Review selections",false]
[]
[]
[null,"Subset categories:Test",true]
[null,"Subset categories:Assets All",true]
[null,"Subset categories:Liabilities All",true]

{"sheet":"MyBuffer","index":15,"n_rows":0,"n_cols":0,"rows_kept":0,"cut":false,"hidden":true,"merged":[]}